BEGIN:VCALENDAR
VERSION:2.0
PRODID:-//wp-events-plugin.com//7.0.5//EN
TZID:Europe/Rome
X-WR-TIMEZONE:Europe/Rome
BEGIN:VEVENT
UID:5@prolocobanzano.it
DTSTART;TZID=Europe/Rome:20250731T200000
DTEND;TZID=Europe/Rome:20250803T000000
DTSTAMP:20250722T185603Z
URL:https://prolocobanzano.it/events/xxi-sagra-della-patata-banzanese/
SUMMARY:XXI Sagra della Patata Banzanese
DESCRIPTION:Torna la Festa della Patata Banzanese e della Tradizione Contad
 ina Montorese! (XXI Sagra della Patata Banzanese\, con fungo porcino e Ci
 polla Ramata di Montoro)Vivi 4 giorni tra sapori autentici\, piatti della 
 tradizione contadina e specialità con funghi porcini e cipolla ramata di 
 Montoro!Anche stand gluten free disponibili!CLICCA QUI PER VISUALIZZARE IL
  MENÙInfo: +39 347 6601502 / +39 348 4607902Non mancare alla XXI Edizione
  della Sagra della Patata Banzanese!\n\n\n\n31/07/2025\nConvegno "Sapori i
 n Cammino" ore 20:00\nTurismo e identità contadina in Irpinia\n\n\n\n\n\n
 \nINTRATTENIMENTO MUSICALE\n\n\n\n\n\n\n31/07/2025\nRDI - Summer Dance Tou
 r\n\n\n\n\n\n01/08/2025\nLumanera\n\n\n\n\n\n\n02/08/2025\nSangria\n\n\n\n
 \n\n\n03/08/2025\nRDI - Summer Dance Tour\n\n\n\n
ATTACH;FMTTYPE=image/jpeg:https://prolocobanzano.it/wp-content/uploads/202
 5/07/Banner.jpeg
LOCATION:Piazza del Popolo\, Piazza del Popolo\, Banzano\, AV\, 83025\, 830
 25\, Italia
X-APPLE-STRUCTURED-LOCATION;VALUE=URI;X-ADDRESS=Piazza del Popolo\, Banzano
 \, AV\, 83025\, 83025\, Italia;X-APPLE-RADIUS=100;X-TITLE=Piazza del Popol
 o:geo:0,0
END:VEVENT
BEGIN:VTIMEZONE
TZID:Europe/Rome
X-LIC-LOCATION:Europe/Rome
BEGIN:DAYLIGHT
DTSTART:20250330T030000
TZOFFSETFROM:+0100
TZOFFSETTO:+0200
TZNAME:CEST
END:DAYLIGHT
END:VTIMEZONE
END:VCALENDAR